BEGIN:VCALENDAR
VERSION:2.0
PRODID:-//Oniria Teatro - ECPv6.0.10//NONSGML v1.0//EN
CALSCALE:GREGORIAN
METHOD:PUBLISH
X-ORIGINAL-URL:https://oniriateatro.com
X-WR-CALDESC:Eventos para Oniria Teatro
REFRESH-INTERVAL;VALUE=DURATION:PT1H
X-Robots-Tag:noindex
X-PUBLISHED-TTL:PT1H
BEGIN:VTIMEZONE
TZID:UTC
BEGIN:STANDARD
TZOFFSETFROM:+0000
TZOFFSETTO:+0000
TZNAME:UTC
DTSTART:20240101T000000
END:STANDARD
END:VTIMEZONE
BEGIN:VEVENT
DTSTART;VALUE=DATE:20240923
DTEND;VALUE=DATE:20240927
DTSTAMP:20260422T094711
CREATED:20240923T000205Z
LAST-MODIFIED:20240923T000205Z
UID:10000012-1727049600-1727395199@oniriateatro.com
SUMMARY:¡Nos vemos en la Feria de Huesca!
DESCRIPTION:Desde el lunes 23 hasta el jueves 26 de septiembre nos podrás encontrar en la Feria Internacional de Teatro y Danza de Huesca. Oniria Teatro cada vez se encuentra más presente en los eventos profesionales que ocurren a lo largo y ancho de nuestro país. Esto forma parte de nuestro trabajo y esfuerzo por expandirnos y estar cada día más presentes en el panorama teatral a nivel nacional.\n¡No dudes en acercarte a Enrique para preguntarle todo acerca de nuestras producciones y actividades!\nNos vemos por Huesca.
URL:https://oniriateatro.com/evento/nos-vemos-en-la-feria-de-huesca/
LOCATION:Huesca\, Huesca
END:VEVENT
END:VCALENDAR